BEGIN:VCALENDAR
VERSION:2.0
PRODID:-//Cavendish Golf Club - ECPv6.15.17//NONSGML v1.0//EN
CALSCALE:GREGORIAN
METHOD:PUBLISH
X-WR-CALNAME:Cavendish Golf Club
X-ORIGINAL-URL:https://www.cavendishgolfclub.com
X-WR-CALDESC:Events for Cavendish Golf Club
REFRESH-INTERVAL;VALUE=DURATION:PT1H
X-Robots-Tag:noindex
X-PUBLISHED-TTL:PT1H
BEGIN:VTIMEZONE
TZID:Europe/London
BEGIN:DAYLIGHT
TZOFFSETFROM:+0000
TZOFFSETTO:+0100
TZNAME:BST
DTSTART:20250330T010000
END:DAYLIGHT
BEGIN:STANDARD
TZOFFSETFROM:+0100
TZOFFSETTO:+0000
TZNAME:GMT
DTSTART:20251026T010000
END:STANDARD
BEGIN:DAYLIGHT
TZOFFSETFROM:+0000
TZOFFSETTO:+0100
TZNAME:BST
DTSTART:20260329T010000
END:DAYLIGHT
BEGIN:STANDARD
TZOFFSETFROM:+0100
TZOFFSETTO:+0000
TZNAME:GMT
DTSTART:20261025T010000
END:STANDARD
BEGIN:DAYLIGHT
TZOFFSETFROM:+0000
TZOFFSETTO:+0100
TZNAME:BST
DTSTART:20270328T010000
END:DAYLIGHT
BEGIN:STANDARD
TZOFFSETFROM:+0100
TZOFFSETTO:+0000
TZNAME:GMT
DTSTART:20271031T010000
END:STANDARD
END:VTIMEZONE
BEGIN:VEVENT
DTSTART;TZID=Europe/London:20260602T000000
DTEND;TZID=Europe/London:20260602T000000
DTSTAMP:20260424T114116
CREATED:20260204T055605Z
LAST-MODIFIED:20260204T055605Z
UID:8941-1780358400-1780358400@www.cavendishgolfclub.com
SUMMARY:LADIES SUMMER OPEN
DESCRIPTION:
URL:https://www.cavendishgolfclub.com/event/ladies-summer-open/
CATEGORIES:Ladies
END:VEVENT
BEGIN:VEVENT
DTSTART;TZID=Europe/London:20260603T000000
DTEND;TZID=Europe/London:20260603T000000
DTSTAMP:20260424T114116
CREATED:20260204T055606Z
LAST-MODIFIED:20260204T055606Z
UID:8942-1780444800-1780444800@www.cavendishgolfclub.com
SUMMARY:STABLEFORD
DESCRIPTION:
URL:https://www.cavendishgolfclub.com/event/stableford-16/
CATEGORIES:Mens
END:VEVENT
BEGIN:VEVENT
DTSTART;TZID=Europe/London:20260604T000000
DTEND;TZID=Europe/London:20260604T000000
DTSTAMP:20260424T114116
CREATED:20260204T055606Z
LAST-MODIFIED:20260204T055606Z
UID:8943-1780531200-1780531200@www.cavendishgolfclub.com
SUMMARY:LADIES 9/18 HOLE STABLEFORD
DESCRIPTION:
URL:https://www.cavendishgolfclub.com/event/ladies-9-18-hole-stableford-3/
CATEGORIES:Ladies
END:VEVENT
BEGIN:VEVENT
DTSTART;TZID=Europe/London:20260606T000000
DTEND;TZID=Europe/London:20260606T000000
DTSTAMP:20260424T114116
CREATED:20260204T055607Z
LAST-MODIFIED:20260204T055607Z
UID:8944-1780704000-1780704000@www.cavendishgolfclub.com
SUMMARY:MEMORIAL CUP
DESCRIPTION:
URL:https://www.cavendishgolfclub.com/event/memorial-cup/
CATEGORIES:Mens
END:VEVENT
BEGIN:VEVENT
DTSTART;TZID=Europe/London:20260607T000000
DTEND;TZID=Europe/London:20260607T000000
DTSTAMP:20260424T114116
CREATED:20260204T055608Z
LAST-MODIFIED:20260204T055608Z
UID:8945-1780790400-1780790400@www.cavendishgolfclub.com
SUMMARY:CAPTAINS AWAY WEEKEND
DESCRIPTION:
URL:https://www.cavendishgolfclub.com/event/captains-away-weekend/
CATEGORIES:Mens
END:VEVENT
BEGIN:VEVENT
DTSTART;TZID=Europe/London:20260608T000000
DTEND;TZID=Europe/London:20260608T000000
DTSTAMP:20260424T114116
CREATED:20260204T055609Z
LAST-MODIFIED:20260204T055609Z
UID:8946-1780876800-1780876800@www.cavendishgolfclub.com
SUMMARY:LADIES BRONZE MATCH HOME V CHESTERFIELD 1.30PM
DESCRIPTION:
URL:https://www.cavendishgolfclub.com/event/ladies-bronze-match-home-v-chesterfield-1-30pm/
CATEGORIES:Ladies
END:VEVENT
BEGIN:VEVENT
DTSTART;TZID=Europe/London:20260608T000000
DTEND;TZID=Europe/London:20260608T000000
DTSTAMP:20260424T114116
CREATED:20260204T055609Z
LAST-MODIFIED:20260204T055609Z
UID:8947-1780876800-1780876800@www.cavendishgolfclub.com
SUMMARY:V VALE ROYAL ABBEY (H) @9:30
DESCRIPTION:
URL:https://www.cavendishgolfclub.com/event/v-vale-royal-abbey-h-930/
CATEGORIES:Seniors
END:VEVENT
BEGIN:VEVENT
DTSTART;TZID=Europe/London:20260608T000000
DTEND;TZID=Europe/London:20260608T000000
DTSTAMP:20260424T114116
CREATED:20260204T055610Z
LAST-MODIFIED:20260204T055610Z
UID:8948-1780876800-1780876800@www.cavendishgolfclub.com
SUMMARY:CAPTAINS AWAY WEEKEND
DESCRIPTION:
URL:https://www.cavendishgolfclub.com/event/captains-away-weekend-2/
CATEGORIES:Mens
END:VEVENT
BEGIN:VEVENT
DTSTART;TZID=Europe/London:20260609T000000
DTEND;TZID=Europe/London:20260609T000000
DTSTAMP:20260424T114116
CREATED:20260204T055610Z
LAST-MODIFIED:20260204T055610Z
UID:8949-1780963200-1780963200@www.cavendishgolfclub.com
SUMMARY:LADIES 6TH PAR/                 9 HOLE STABLEFORD
DESCRIPTION:
URL:https://www.cavendishgolfclub.com/event/ladies-6th-par-9-hole-stableford/
CATEGORIES:Ladies
END:VEVENT
BEGIN:VEVENT
DTSTART;TZID=Europe/London:20260610T000000
DTEND;TZID=Europe/London:20260610T000000
DTSTAMP:20260424T114116
CREATED:20260204T055623Z
LAST-MODIFIED:20260204T055623Z
UID:8950-1781049600-1781049600@www.cavendishgolfclub.com
SUMMARY:MIDWEEK MEDALS
DESCRIPTION:
URL:https://www.cavendishgolfclub.com/event/midweek-medals-13/
CATEGORIES:Mens
END:VEVENT
BEGIN:VEVENT
DTSTART;TZID=Europe/London:20260611T000000
DTEND;TZID=Europe/London:20260611T000000
DTSTAMP:20260424T114116
CREATED:20260204T055624Z
LAST-MODIFIED:20260204T055624Z
UID:8951-1781136000-1781136000@www.cavendishgolfclub.com
SUMMARY:LADIES PAST CAPTAINS TROPHY & MEAL             9TH MEDAL & 2ND ROSE BOWL/                       9 HOLE STABLEFORD
DESCRIPTION:
URL:https://www.cavendishgolfclub.com/event/ladies-past-captains-trophy-meal-9th-medal-2nd-rose-bowl-9-hole-stableford/
CATEGORIES:Ladies
END:VEVENT
BEGIN:VEVENT
DTSTART;TZID=Europe/London:20260613T000000
DTEND;TZID=Europe/London:20260613T000000
DTSTAMP:20260424T114116
CREATED:20260204T055624Z
LAST-MODIFIED:20260204T055624Z
UID:8952-1781308800-1781308800@www.cavendishgolfclub.com
SUMMARY:MEDAL 4
DESCRIPTION:
URL:https://www.cavendishgolfclub.com/event/medal-4/
CATEGORIES:Mens
END:VEVENT
BEGIN:VEVENT
DTSTART;TZID=Europe/London:20260614T000000
DTEND;TZID=Europe/London:20260614T000000
DTSTAMP:20260424T114116
CREATED:20260204T055624Z
LAST-MODIFIED:20260204T055624Z
UID:8953-1781395200-1781395200@www.cavendishgolfclub.com
SUMMARY:Breakfast Club
DESCRIPTION:
URL:https://www.cavendishgolfclub.com/event/breakfast-club-2/
CATEGORIES:Mixed
END:VEVENT
BEGIN:VEVENT
DTSTART;TZID=Europe/London:20260615T000000
DTEND;TZID=Europe/London:20260615T000000
DTSTAMP:20260424T114116
CREATED:20260204T055638Z
LAST-MODIFIED:20260204T055638Z
UID:8955-1781481600-1781481600@www.cavendishgolfclub.com
SUMMARY:V SICKLEHOME (H) @9:30
DESCRIPTION:
URL:https://www.cavendishgolfclub.com/event/v-sicklehome-h-930/
CATEGORIES:Seniors
END:VEVENT
BEGIN:VEVENT
DTSTART;TZID=Europe/London:20260616T000000
DTEND;TZID=Europe/London:20260616T000000
DTSTAMP:20260424T114116
CREATED:20260204T055639Z
LAST-MODIFIED:20260204T055639Z
UID:8956-1781568000-1781568000@www.cavendishgolfclub.com
SUMMARY:D&C                                       V TYTHERINGTON @16:00
DESCRIPTION:
URL:https://www.cavendishgolfclub.com/event/dc-v-tytherington-1600/
CATEGORIES:Mens
END:VEVENT
BEGIN:VEVENT
DTSTART;TZID=Europe/London:20260617T000000
DTEND;TZID=Europe/London:20260617T000000
DTSTAMP:20260424T114116
CREATED:20260204T055639Z
LAST-MODIFIED:20260204T055639Z
UID:8957-1781654400-1781654400@www.cavendishgolfclub.com
SUMMARY:STABLEFORD
DESCRIPTION:
URL:https://www.cavendishgolfclub.com/event/stableford-17/
CATEGORIES:Mens
END:VEVENT
BEGIN:VEVENT
DTSTART;TZID=Europe/London:20260618T000000
DTEND;TZID=Europe/London:20260618T000000
DTSTAMP:20260424T114116
CREATED:20260204T055639Z
LAST-MODIFIED:20260204T055639Z
UID:8958-1781740800-1781740800@www.cavendishgolfclub.com
SUMMARY:LADY CAPTAINS DAY
DESCRIPTION:
URL:https://www.cavendishgolfclub.com/event/lady-captains-day/
CATEGORIES:Ladies
END:VEVENT
BEGIN:VEVENT
DTSTART;TZID=Europe/London:20260620T000000
DTEND;TZID=Europe/London:20260620T000000
DTSTAMP:20260424T114116
CREATED:20260204T055639Z
LAST-MODIFIED:20260204T055639Z
UID:8959-1781913600-1781913600@www.cavendishgolfclub.com
SUMMARY:CAPTAINS DAY
DESCRIPTION:
URL:https://www.cavendishgolfclub.com/event/captains-day/
CATEGORIES:Mens
END:VEVENT
BEGIN:VEVENT
DTSTART;TZID=Europe/London:20260621T000000
DTEND;TZID=Europe/London:20260621T000000
DTSTAMP:20260424T114116
CREATED:20260204T055654Z
LAST-MODIFIED:20260204T055654Z
UID:8960-1782000000-1782000000@www.cavendishgolfclub.com
SUMMARY:LONGEST DAY GOLF CHALLENGE
DESCRIPTION:
URL:https://www.cavendishgolfclub.com/event/longest-day-golf-challenge/
CATEGORIES:Mixed
END:VEVENT
BEGIN:VEVENT
DTSTART;TZID=Europe/London:20260621T000000
DTEND;TZID=Europe/London:20260621T000000
DTSTAMP:20260424T114116
CREATED:20260204T055654Z
LAST-MODIFIED:20260204T055654Z
UID:8961-1782000000-1782000000@www.cavendishgolfclub.com
SUMMARY:JUNIOR COMPETITION
DESCRIPTION:
URL:https://www.cavendishgolfclub.com/event/junior-competition-8/
CATEGORIES:Juniors
END:VEVENT
BEGIN:VEVENT
DTSTART;TZID=Europe/London:20260622T080000
DTEND;TZID=Europe/London:20260622T170000
DTSTAMP:20260424T114116
CREATED:20260311T203616Z
LAST-MODIFIED:20260311T203616Z
UID:9485-1782115200-1782147600@www.cavendishgolfclub.com
SUMMARY:Ladies Silver Match AWAY v Ormonde Fields 1.30pm
DESCRIPTION:
URL:https://www.cavendishgolfclub.com/event/ladies-silver-match-away-v-ormonde-fields-1-30pm-4/
CATEGORIES:Ladies
END:VEVENT
BEGIN:VEVENT
DTSTART;TZID=Europe/London:20260623T000000
DTEND;TZID=Europe/London:20260623T000000
DTSTAMP:20260424T114116
CREATED:20260204T055654Z
LAST-MODIFIED:20260204T055654Z
UID:8963-1782172800-1782172800@www.cavendishgolfclub.com
SUMMARY:D&C                              V HEATON MOOR @16:00
DESCRIPTION:
URL:https://www.cavendishgolfclub.com/event/dc-v-heaton-moor-1600/
CATEGORIES:Mens
END:VEVENT
BEGIN:VEVENT
DTSTART;TZID=Europe/London:20260624T000000
DTEND;TZID=Europe/London:20260624T000000
DTSTAMP:20260424T114116
CREATED:20260204T055655Z
LAST-MODIFIED:20260204T055655Z
UID:8964-1782259200-1782259200@www.cavendishgolfclub.com
SUMMARY:MIDWEEK MEDALS
DESCRIPTION:
URL:https://www.cavendishgolfclub.com/event/midweek-medals-14/
CATEGORIES:Mens
END:VEVENT
BEGIN:VEVENT
DTSTART;TZID=Europe/London:20260625T000000
DTEND;TZID=Europe/London:20260625T000000
DTSTAMP:20260424T114116
CREATED:20260204T055709Z
LAST-MODIFIED:20260204T055709Z
UID:8965-1782345600-1782345600@www.cavendishgolfclub.com
SUMMARY:LADIES BRONZE MATCH HOME V MATLOCK 1.30PM 9/18 HOLE STABLEFORD
DESCRIPTION:
URL:https://www.cavendishgolfclub.com/event/ladies-bronze-match-home-v-matlock-1-30pm-9-18-hole-stableford/
CATEGORIES:Ladies
END:VEVENT
BEGIN:VEVENT
DTSTART;TZID=Europe/London:20260626T000000
DTEND;TZID=Europe/London:20260626T000000
DTSTAMP:20260424T114116
CREATED:20260204T055654Z
LAST-MODIFIED:20260204T055654Z
UID:8962-1782432000-1782432000@www.cavendishgolfclub.com
SUMMARY:LADIES HARDY BOWL & 1ST PAR/                               9 HOLE STABLEFORD
DESCRIPTION:
URL:https://www.cavendishgolfclub.com/event/ladies-hardy-bowl-1st-par-9-hole-stableford/
CATEGORIES:Ladies
END:VEVENT
BEGIN:VEVENT
DTSTART;TZID=Europe/London:20260626T000000
DTEND;TZID=Europe/London:20260626T000000
DTSTAMP:20260424T114116
CREATED:20260204T055709Z
LAST-MODIFIED:20260204T055709Z
UID:8966-1782432000-1782432000@www.cavendishgolfclub.com
SUMMARY:CAPTAINS EXCHANGE @ WILLESLEY PARK
DESCRIPTION:
URL:https://www.cavendishgolfclub.com/event/captains-exchange-willesley-park/
CATEGORIES:Mens
END:VEVENT
BEGIN:VEVENT
DTSTART;TZID=Europe/London:20260627T000000
DTEND;TZID=Europe/London:20260627T000000
DTSTAMP:20260424T114116
CREATED:20260204T055709Z
LAST-MODIFIED:20260204T055709Z
UID:8967-1782518400-1782518400@www.cavendishgolfclub.com
SUMMARY:SCRATCH / DEVONSHIRE RND 1 - MEDAL 5
DESCRIPTION:
URL:https://www.cavendishgolfclub.com/event/scratch-devonshire-rnd-1-medal-5/
CATEGORIES:Mens
END:VEVENT
BEGIN:VEVENT
DTSTART;TZID=Europe/London:20260628T000000
DTEND;TZID=Europe/London:20260628T000000
DTSTAMP:20260424T114116
CREATED:20260204T055709Z
LAST-MODIFIED:20260204T055709Z
UID:8968-1782604800-1782604800@www.cavendishgolfclub.com
SUMMARY:BRIDGET NEWELL MIXED 4BBB
DESCRIPTION:
URL:https://www.cavendishgolfclub.com/event/bridget-newell-mixed-4bbb/
CATEGORIES:Mixed
END:VEVENT
BEGIN:VEVENT
DTSTART;TZID=Europe/London:20260629T000000
DTEND;TZID=Europe/London:20260629T000000
DTSTAMP:20260424T114116
CREATED:20260204T055710Z
LAST-MODIFIED:20260204T055710Z
UID:8969-1782691200-1782691200@www.cavendishgolfclub.com
SUMMARY:LADIES SILVER MATCH AWAY V CHEVIN 1.30PM
DESCRIPTION:
URL:https://www.cavendishgolfclub.com/event/ladies-silver-match-away-v-chevin-1-30pm/
CATEGORIES:Ladies
END:VEVENT
BEGIN:VEVENT
DTSTART;TZID=Europe/London:20260630T000000
DTEND;TZID=Europe/London:20260630T000000
DTSTAMP:20260424T114116
CREATED:20260204T055723Z
LAST-MODIFIED:20260204T055723Z
UID:8970-1782777600-1782777600@www.cavendishgolfclub.com
SUMMARY:LADIES INVITATIONAL
DESCRIPTION:
URL:https://www.cavendishgolfclub.com/event/ladies-invitational/
CATEGORIES:Ladies
END:VEVENT
END:VCALENDAR