BEGIN:VCALENDAR
VERSION:2.0
PRODID:-//Cavendish Golf Club - ECPv6.15.17//NONSGML v1.0//EN
CALSCALE:GREGORIAN
METHOD:PUBLISH
X-WR-CALNAME:Cavendish Golf Club
X-ORIGINAL-URL:https://www.cavendishgolfclub.com
X-WR-CALDESC:Events for Cavendish Golf Club
REFRESH-INTERVAL;VALUE=DURATION:PT1H
X-Robots-Tag:noindex
X-PUBLISHED-TTL:PT1H
BEGIN:VTIMEZONE
TZID:Europe/London
BEGIN:DAYLIGHT
TZOFFSETFROM:+0000
TZOFFSETTO:+0100
TZNAME:BST
DTSTART:20250330T010000
END:DAYLIGHT
BEGIN:STANDARD
TZOFFSETFROM:+0100
TZOFFSETTO:+0000
TZNAME:GMT
DTSTART:20251026T010000
END:STANDARD
BEGIN:DAYLIGHT
TZOFFSETFROM:+0000
TZOFFSETTO:+0100
TZNAME:BST
DTSTART:20260329T010000
END:DAYLIGHT
BEGIN:STANDARD
TZOFFSETFROM:+0100
TZOFFSETTO:+0000
TZNAME:GMT
DTSTART:20261025T010000
END:STANDARD
BEGIN:DAYLIGHT
TZOFFSETFROM:+0000
TZOFFSETTO:+0100
TZNAME:BST
DTSTART:20270328T010000
END:DAYLIGHT
BEGIN:STANDARD
TZOFFSETFROM:+0100
TZOFFSETTO:+0000
TZNAME:GMT
DTSTART:20271031T010000
END:STANDARD
END:VTIMEZONE
BEGIN:VEVENT
DTSTART;TZID=Europe/London:20260505T000000
DTEND;TZID=Europe/London:20260505T000000
DTSTAMP:20260424T114112
CREATED:20260204T055357Z
LAST-MODIFIED:20260204T055357Z
UID:8908-1777939200-1777939200@www.cavendishgolfclub.com
SUMMARY:LADIES 5TH PAR/              9 HOLE STABLEFORD
DESCRIPTION:
URL:https://www.cavendishgolfclub.com/event/ladies-5th-par-9-hole-stableford/
END:VEVENT
BEGIN:VEVENT
DTSTART;TZID=Europe/London:20260506T000000
DTEND;TZID=Europe/London:20260506T000000
DTSTAMP:20260424T114112
CREATED:20260204T055358Z
LAST-MODIFIED:20260204T055358Z
UID:8909-1778025600-1778025600@www.cavendishgolfclub.com
SUMMARY:STABLEFORD
DESCRIPTION:
URL:https://www.cavendishgolfclub.com/event/stableford-14/
END:VEVENT
BEGIN:VEVENT
DTSTART;TZID=Europe/London:20260507T000000
DTEND;TZID=Europe/London:20260507T000000
DTSTAMP:20260424T114112
CREATED:20260204T055358Z
LAST-MODIFIED:20260204T055358Z
UID:8910-1778112000-1778112000@www.cavendishgolfclub.com
SUMMARY:LADIES MAJOR DARBYSHIRE SALVERS/   9 HOLE STABLEFORD
DESCRIPTION:
URL:https://www.cavendishgolfclub.com/event/ladies-major-darbyshire-salvers-9-hole-stableford/
END:VEVENT
BEGIN:VEVENT
DTSTART;TZID=Europe/London:20260507T000000
DTEND;TZID=Europe/London:20260507T000000
DTSTAMP:20260424T114112
CREATED:20260204T055358Z
LAST-MODIFIED:20260204T055358Z
UID:8911-1778112000-1778112000@www.cavendishgolfclub.com
SUMMARY:V  VALE ROYAL ABBEY (A) @9:30
DESCRIPTION:
URL:https://www.cavendishgolfclub.com/event/v-vale-royal-abbey-a-930/
END:VEVENT
BEGIN:VEVENT
DTSTART;TZID=Europe/London:20260508T000000
DTEND;TZID=Europe/London:20260508T000000
DTSTAMP:20260424T114112
CREATED:20260204T055359Z
LAST-MODIFIED:20260204T055359Z
UID:8912-1778198400-1778198400@www.cavendishgolfclub.com
SUMMARY:SENIORS OPEN 4BBB
DESCRIPTION:
URL:https://www.cavendishgolfclub.com/event/seniors-open-4bbb-4/
END:VEVENT
BEGIN:VEVENT
DTSTART;TZID=Europe/London:20260509T000000
DTEND;TZID=Europe/London:20260509T000000
DTSTAMP:20260424T114112
CREATED:20260204T055400Z
LAST-MODIFIED:20260204T055400Z
UID:8913-1778284800-1778284800@www.cavendishgolfclub.com
SUMMARY:JUBILEE CUP
DESCRIPTION:
URL:https://www.cavendishgolfclub.com/event/jubilee-cup/
END:VEVENT
BEGIN:VEVENT
DTSTART;TZID=Europe/London:20260511T000000
DTEND;TZID=Europe/London:20260511T000000
DTSTAMP:20260424T114112
CREATED:20260204T055401Z
LAST-MODIFIED:20260204T055401Z
UID:8914-1778457600-1778457600@www.cavendishgolfclub.com
SUMMARY:ADIES SILVER MATCH HOME  V ORMONDE FIELDS 1.30PM
DESCRIPTION:
URL:https://www.cavendishgolfclub.com/event/adies-silver-match-home-v-ormonde-fields-1-30pm/
END:VEVENT
BEGIN:VEVENT
DTSTART;TZID=Europe/London:20260511T000000
DTEND;TZID=Europe/London:20260511T000000
DTSTAMP:20260424T114112
CREATED:20260204T055401Z
LAST-MODIFIED:20260204T055401Z
UID:8915-1778457600-1778457600@www.cavendishgolfclub.com
SUMMARY:V TRENTHAM PARK (A) @9:30
DESCRIPTION:
URL:https://www.cavendishgolfclub.com/event/v-trentham-park-a-930/
END:VEVENT
BEGIN:VEVENT
DTSTART;TZID=Europe/London:20260512T000000
DTEND;TZID=Europe/London:20260512T000000
DTSTAMP:20260424T114112
CREATED:20260204T055401Z
LAST-MODIFIED:20260204T055401Z
UID:8916-1778544000-1778544000@www.cavendishgolfclub.com
SUMMARY:LADIES EXCHANGE @ STOCKPORT GC
DESCRIPTION:
URL:https://www.cavendishgolfclub.com/event/ladies-exchange-stockport-gc/
END:VEVENT
BEGIN:VEVENT
DTSTART;TZID=Europe/London:20260512T000000
DTEND;TZID=Europe/London:20260512T000000
DTSTAMP:20260424T114112
CREATED:20260204T055402Z
LAST-MODIFIED:20260204T055402Z
UID:8917-1778544000-1778544000@www.cavendishgolfclub.com
SUMMARY:D&C V REDDISH Vale @16:00
DESCRIPTION:
URL:https://www.cavendishgolfclub.com/event/dc-v-reddish-vale-1600/
END:VEVENT
BEGIN:VEVENT
DTSTART;TZID=Europe/London:20260513T000000
DTEND;TZID=Europe/London:20260513T000000
DTSTAMP:20260424T114112
CREATED:20260204T055416Z
LAST-MODIFIED:20260204T055416Z
UID:8918-1778630400-1778630400@www.cavendishgolfclub.com
SUMMARY:MIDWEEK MEDALS
DESCRIPTION:
URL:https://www.cavendishgolfclub.com/event/midweek-medals-11/
END:VEVENT
BEGIN:VEVENT
DTSTART;TZID=Europe/London:20260514T000000
DTEND;TZID=Europe/London:20260514T000000
DTSTAMP:20260424T114112
CREATED:20260204T055416Z
LAST-MODIFIED:20260204T055416Z
UID:8919-1778716800-1778716800@www.cavendishgolfclub.com
SUMMARY:LADIES 8TH MEDAL & H&H QUALIFIER/              9 HOLE STABLEFORD
DESCRIPTION:
URL:https://www.cavendishgolfclub.com/event/ladies-8th-medal-hh-qualifier-9-hole-stableford/
END:VEVENT
BEGIN:VEVENT
DTSTART;TZID=Europe/London:20260515T080000
DTEND;TZID=Europe/London:20260515T170000
DTSTAMP:20260424T114112
CREATED:20260204T061946Z
LAST-MODIFIED:20260204T061946Z
UID:9094-1778832000-1778864400@www.cavendishgolfclub.com
SUMMARY:Open Paris Competition
DESCRIPTION:
URL:https://www.cavendishgolfclub.com/event/open-paris-competition/
CATEGORIES:Mens
END:VEVENT
BEGIN:VEVENT
DTSTART;TZID=Europe/London:20260516T000000
DTEND;TZID=Europe/London:20260516T000000
DTSTAMP:20260424T114112
CREATED:20260204T055417Z
LAST-MODIFIED:20260204T055417Z
UID:8921-1778889600-1778889600@www.cavendishgolfclub.com
SUMMARY:MEDAL 2
DESCRIPTION:
URL:https://www.cavendishgolfclub.com/event/medal-2/
END:VEVENT
BEGIN:VEVENT
DTSTART;TZID=Europe/London:20260517T000000
DTEND;TZID=Europe/London:20260517T000000
DTSTAMP:20260424T114112
CREATED:20260204T055417Z
LAST-MODIFIED:20260204T055417Z
UID:8922-1778976000-1778976000@www.cavendishgolfclub.com
SUMMARY:JUNIOR COMPETITION
DESCRIPTION:
URL:https://www.cavendishgolfclub.com/event/junior-competition-7/
END:VEVENT
BEGIN:VEVENT
DTSTART;TZID=Europe/London:20260518T000000
DTEND;TZID=Europe/London:20260518T000000
DTSTAMP:20260424T114112
CREATED:20260204T055430Z
LAST-MODIFIED:20260204T055430Z
UID:8923-1779062400-1779062400@www.cavendishgolfclub.com
SUMMARY:LADIES BRONZE MATCH HOME V BROUGHTON HEATH 1.30PM
DESCRIPTION:
URL:https://www.cavendishgolfclub.com/event/ladies-bronze-match-home-v-broughton-heath-1-30pm/
END:VEVENT
BEGIN:VEVENT
DTSTART;TZID=Europe/London:20260518T000000
DTEND;TZID=Europe/London:20260518T000000
DTSTAMP:20260424T114112
CREATED:20260204T055431Z
LAST-MODIFIED:20260204T055431Z
UID:8924-1779062400-1779062400@www.cavendishgolfclub.com
SUMMARY:V LEEK (H) @9:30
DESCRIPTION:
URL:https://www.cavendishgolfclub.com/event/v-leek-h-930/
END:VEVENT
BEGIN:VEVENT
DTSTART;TZID=Europe/London:20260519T000000
DTEND;TZID=Europe/London:20260519T000000
DTSTAMP:20260424T114112
CREATED:20260204T055431Z
LAST-MODIFIED:20260204T055431Z
UID:8925-1779148800-1779148800@www.cavendishgolfclub.com
SUMMARY:LADIES 4BBB PING COMPETITION                    9 HOLE STABLEFORD
DESCRIPTION:
URL:https://www.cavendishgolfclub.com/event/ladies-4bbb-ping-competition-9-hole-stableford/
END:VEVENT
BEGIN:VEVENT
DTSTART;TZID=Europe/London:20260519T000000
DTEND;TZID=Europe/London:20260519T000000
DTSTAMP:20260424T114112
CREATED:20260204T055431Z
LAST-MODIFIED:20260204T055431Z
UID:8926-1779148800-1779148800@www.cavendishgolfclub.com
SUMMARY:D&C V DISLEY @16:00
DESCRIPTION:
URL:https://www.cavendishgolfclub.com/event/dc-v-disley-1600/
END:VEVENT
BEGIN:VEVENT
DTSTART;TZID=Europe/London:20260520T000000
DTEND;TZID=Europe/London:20260520T000000
DTSTAMP:20260424T114112
CREATED:20260204T055431Z
LAST-MODIFIED:20260204T055431Z
UID:8927-1779235200-1779235200@www.cavendishgolfclub.com
SUMMARY:STABLEFORD
DESCRIPTION:
URL:https://www.cavendishgolfclub.com/event/stableford-15/
END:VEVENT
BEGIN:VEVENT
DTSTART;TZID=Europe/London:20260521T000000
DTEND;TZID=Europe/London:20260521T000000
DTSTAMP:20260424T114112
CREATED:20260204T055445Z
LAST-MODIFIED:20260204T055445Z
UID:8928-1779321600-1779321600@www.cavendishgolfclub.com
SUMMARY:LADIES SILVER MATCH HOME V CHEVIN 1.30PM            9/18 HOLE STABLEFORD
DESCRIPTION:
URL:https://www.cavendishgolfclub.com/event/ladies-silver-match-home-v-chevin-1-30pm-9-18-hole-stableford/
END:VEVENT
BEGIN:VEVENT
DTSTART;TZID=Europe/London:20260523T000000
DTEND;TZID=Europe/London:20260523T000000
DTSTAMP:20260424T114112
CREATED:20260204T055446Z
LAST-MODIFIED:20260204T055446Z
UID:8929-1779494400-1779494400@www.cavendishgolfclub.com
SUMMARY:SENIORS CUP
DESCRIPTION:
URL:https://www.cavendishgolfclub.com/event/seniors-cup/
END:VEVENT
BEGIN:VEVENT
DTSTART;TZID=Europe/London:20260523T000000
DTEND;TZID=Europe/London:20260523T000000
DTSTAMP:20260424T114112
CREATED:20260204T055446Z
LAST-MODIFIED:20260204T055446Z
UID:8930-1779494400-1779494400@www.cavendishgolfclub.com
SUMMARY:MEDAL 3
DESCRIPTION:
URL:https://www.cavendishgolfclub.com/event/medal-3/
END:VEVENT
BEGIN:VEVENT
DTSTART;TZID=Europe/London:20260524T000000
DTEND;TZID=Europe/London:20260524T000000
DTSTAMP:20260424T114112
CREATED:20260204T055446Z
LAST-MODIFIED:20260204T055446Z
UID:8931-1779580800-1779580800@www.cavendishgolfclub.com
SUMMARY:MENS OPEN AMAM
DESCRIPTION:
URL:https://www.cavendishgolfclub.com/event/mens-open-amam/
END:VEVENT
BEGIN:VEVENT
DTSTART;TZID=Europe/London:20260525T080000
DTEND;TZID=Europe/London:20260525T170000
DTSTAMP:20260424T114112
CREATED:20260217T105803Z
LAST-MODIFIED:20260217T105803Z
UID:9110-1779696000-1779728400@www.cavendishgolfclub.com
SUMMARY:Ladies friendly AWAY vs Macclesfield GC 12.30pm
DESCRIPTION:
URL:https://www.cavendishgolfclub.com/event/ladies-friendly-away-vs-macclesfield-gc-12-30pm/
CATEGORIES:Ladies
END:VEVENT
BEGIN:VEVENT
DTSTART;TZID=Europe/London:20260526T000000
DTEND;TZID=Europe/London:20260526T000000
DTSTAMP:20260424T114112
CREATED:20260204T055447Z
LAST-MODIFIED:20260204T055447Z
UID:8932-1779753600-1779753600@www.cavendishgolfclub.com
SUMMARY:LADIES KING CHARLES III FOURSOMES/                9 HOLE STABLEFORD
DESCRIPTION:
URL:https://www.cavendishgolfclub.com/event/ladies-king-charles-iii-foursomes-9-hole-stableford/
END:VEVENT
BEGIN:VEVENT
DTSTART;TZID=Europe/London:20260527T000000
DTEND;TZID=Europe/London:20260527T000000
DTSTAMP:20260424T114112
CREATED:20260204T055501Z
LAST-MODIFIED:20260204T055501Z
UID:8933-1779840000-1779840000@www.cavendishgolfclub.com
SUMMARY:MIDWEEK MEDALS
DESCRIPTION:
URL:https://www.cavendishgolfclub.com/event/midweek-medals-12/
END:VEVENT
BEGIN:VEVENT
DTSTART;TZID=Europe/London:20260528T000000
DTEND;TZID=Europe/London:20260528T000000
DTSTAMP:20260424T114112
CREATED:20260204T055503Z
LAST-MODIFIED:20260204T055503Z
UID:8934-1779926400-1779926400@www.cavendishgolfclub.com
SUMMARY:LADIES BRONZE MATCH AWAY V MATLOCK 1.30PM  9/18 HOLE STABLEFORD
DESCRIPTION:
URL:https://www.cavendishgolfclub.com/event/ladies-bronze-match-away-v-matlock-1-30pm-9-18-hole-stableford/
END:VEVENT
BEGIN:VEVENT
DTSTART;TZID=Europe/London:20260529T000000
DTEND;TZID=Europe/London:20260529T000000
DTSTAMP:20260424T114112
CREATED:20260204T055504Z
LAST-MODIFIED:20260204T055504Z
UID:8935-1780012800-1780012800@www.cavendishgolfclub.com
SUMMARY:MEL PYE TROPHY
DESCRIPTION:
URL:https://www.cavendishgolfclub.com/event/mel-pye-trophy/
END:VEVENT
BEGIN:VEVENT
DTSTART;TZID=Europe/London:20260530T000000
DTEND;TZID=Europe/London:20260530T000000
DTSTAMP:20260424T114112
CREATED:20260204T055505Z
LAST-MODIFIED:20260204T055505Z
UID:8936-1780099200-1780099200@www.cavendishgolfclub.com
SUMMARY:BUXTON TROPHY
DESCRIPTION:
URL:https://www.cavendishgolfclub.com/event/buxton-trophy/
END:VEVENT
END:VCALENDAR