BEGIN:VCALENDAR
VERSION:2.0
PRODID:-//Cavendish Golf Club - ECPv6.15.17//NONSGML v1.0//EN
CALSCALE:GREGORIAN
METHOD:PUBLISH
X-WR-CALNAME:Cavendish Golf Club
X-ORIGINAL-URL:https://www.cavendishgolfclub.com
X-WR-CALDESC:Events for Cavendish Golf Club
REFRESH-INTERVAL;VALUE=DURATION:PT1H
X-Robots-Tag:noindex
X-PUBLISHED-TTL:PT1H
BEGIN:VTIMEZONE
TZID:Europe/London
BEGIN:DAYLIGHT
TZOFFSETFROM:+0000
TZOFFSETTO:+0100
TZNAME:BST
DTSTART:20250330T010000
END:DAYLIGHT
BEGIN:STANDARD
TZOFFSETFROM:+0100
TZOFFSETTO:+0000
TZNAME:GMT
DTSTART:20251026T010000
END:STANDARD
BEGIN:DAYLIGHT
TZOFFSETFROM:+0000
TZOFFSETTO:+0100
TZNAME:BST
DTSTART:20260329T010000
END:DAYLIGHT
BEGIN:STANDARD
TZOFFSETFROM:+0100
TZOFFSETTO:+0000
TZNAME:GMT
DTSTART:20261025T010000
END:STANDARD
BEGIN:DAYLIGHT
TZOFFSETFROM:+0000
TZOFFSETTO:+0100
TZNAME:BST
DTSTART:20270328T010000
END:DAYLIGHT
BEGIN:STANDARD
TZOFFSETFROM:+0100
TZOFFSETTO:+0000
TZNAME:GMT
DTSTART:20271031T010000
END:STANDARD
END:VTIMEZONE
BEGIN:VEVENT
DTSTART;TZID=Europe/London:20260304T000000
DTEND;TZID=Europe/London:20260304T000000
DTSTAMP:20260424T100659
CREATED:20260204T055119Z
LAST-MODIFIED:20260204T055119Z
UID:8870-1772582400-1772582400@www.cavendishgolfclub.com
SUMMARY:LADIES COFFEE MORNING
DESCRIPTION:
URL:https://www.cavendishgolfclub.com/event/ladies-coffee-morning/
CATEGORIES:Ladies
END:VEVENT
BEGIN:VEVENT
DTSTART;TZID=Europe/London:20260305T000000
DTEND;TZID=Europe/London:20260305T000000
DTSTAMP:20260424T100659
CREATED:20260204T055129Z
LAST-MODIFIED:20260204T055129Z
UID:8878-1772668800-1772668800@www.cavendishgolfclub.com
SUMMARY:LADIES TEAM/FUN COMPETITION
DESCRIPTION:
URL:https://www.cavendishgolfclub.com/event/ladies-team-fun-competition-10/
CATEGORIES:Ladies
END:VEVENT
BEGIN:VEVENT
DTSTART;TZID=Europe/London:20260307T000000
DTEND;TZID=Europe/London:20260307T000000
DTSTAMP:20260424T100659
CREATED:20260204T055128Z
LAST-MODIFIED:20260204T055128Z
UID:8876-1772841600-1772841600@www.cavendishgolfclub.com
SUMMARY:WINTER LEAGUE
DESCRIPTION:
URL:https://www.cavendishgolfclub.com/event/winter-league-11/
CATEGORIES:Mens
END:VEVENT
BEGIN:VEVENT
DTSTART;TZID=Europe/London:20260311T000000
DTEND;TZID=Europe/London:20260311T000000
DTSTAMP:20260424T100659
CREATED:20260204T055119Z
LAST-MODIFIED:20260204T055119Z
UID:8871-1773187200-1773187200@www.cavendishgolfclub.com
SUMMARY:WINTER COMPETITION
DESCRIPTION:
URL:https://www.cavendishgolfclub.com/event/winter-competition-38/
CATEGORIES:Mens
END:VEVENT
BEGIN:VEVENT
DTSTART;TZID=Europe/London:20260312T000000
DTEND;TZID=Europe/London:20260312T000000
DTSTAMP:20260424T100659
CREATED:20260204T055138Z
LAST-MODIFIED:20260204T055138Z
UID:8879-1773273600-1773273600@www.cavendishgolfclub.com
SUMMARY:LADIES WINTER LEAGUE FINAL
DESCRIPTION:
URL:https://www.cavendishgolfclub.com/event/ladies-winter-league-final/
CATEGORIES:Ladies
END:VEVENT
BEGIN:VEVENT
DTSTART;TZID=Europe/London:20260314T000000
DTEND;TZID=Europe/London:20260314T000000
DTSTAMP:20260424T100659
CREATED:20260204T055124Z
LAST-MODIFIED:20260204T055124Z
UID:8874-1773446400-1773446400@www.cavendishgolfclub.com
SUMMARY:WINTER COMPETITION
DESCRIPTION:
URL:https://www.cavendishgolfclub.com/event/winter-competition-41/
CATEGORIES:Mens
END:VEVENT
BEGIN:VEVENT
DTSTART;TZID=Europe/London:20260318T000000
DTEND;TZID=Europe/London:20260318T000000
DTSTAMP:20260424T100659
CREATED:20260204T055120Z
LAST-MODIFIED:20260204T055120Z
UID:8872-1773792000-1773792000@www.cavendishgolfclub.com
SUMMARY:WINTER COMPETITION
DESCRIPTION:
URL:https://www.cavendishgolfclub.com/event/winter-competition-39/
CATEGORIES:Mens
END:VEVENT
BEGIN:VEVENT
DTSTART;TZID=Europe/London:20260319T000000
DTEND;TZID=Europe/London:20260319T000000
DTSTAMP:20260424T100659
CREATED:20260204T055139Z
LAST-MODIFIED:20260204T055139Z
UID:8880-1773878400-1773878400@www.cavendishgolfclub.com
SUMMARY:LADIES TEAM/FUN COMPETITION (TIGERS & RABBITS)
DESCRIPTION:
URL:https://www.cavendishgolfclub.com/event/ladies-team-fun-competition-tigers-rabbits/
CATEGORIES:Ladies
END:VEVENT
BEGIN:VEVENT
DTSTART;TZID=Europe/London:20260321T000000
DTEND;TZID=Europe/London:20260321T000000
DTSTAMP:20260424T100659
CREATED:20260204T055126Z
LAST-MODIFIED:20260204T055126Z
UID:8875-1774051200-1774051200@www.cavendishgolfclub.com
SUMMARY:WINTER COMPETITION
DESCRIPTION:
URL:https://www.cavendishgolfclub.com/event/winter-competition-42/
CATEGORIES:Mens
END:VEVENT
BEGIN:VEVENT
DTSTART;TZID=Europe/London:20260322T000000
DTEND;TZID=Europe/London:20260322T000000
DTSTAMP:20260424T100659
CREATED:20260204T055142Z
LAST-MODIFIED:20260204T055142Z
UID:8883-1774137600-1774137600@www.cavendishgolfclub.com
SUMMARY:JUNIOR COMPETITION
DESCRIPTION:
URL:https://www.cavendishgolfclub.com/event/junior-competition-5/
CATEGORIES:Juniors
END:VEVENT
BEGIN:VEVENT
DTSTART;TZID=Europe/London:20260325T000000
DTEND;TZID=Europe/London:20260325T000000
DTSTAMP:20260424T100659
CREATED:20260204T055121Z
LAST-MODIFIED:20260204T055121Z
UID:8873-1774396800-1774396800@www.cavendishgolfclub.com
SUMMARY:WINTER COMPETITION
DESCRIPTION:
URL:https://www.cavendishgolfclub.com/event/winter-competition-40/
CATEGORIES:Mens
END:VEVENT
BEGIN:VEVENT
DTSTART;TZID=Europe/London:20260326T000000
DTEND;TZID=Europe/London:20260326T000000
DTSTAMP:20260424T100659
CREATED:20260204T055141Z
LAST-MODIFIED:20260204T055141Z
UID:8881-1774483200-1774483200@www.cavendishgolfclub.com
SUMMARY:LADIES TEAM/FUN COMPETITION
DESCRIPTION:
URL:https://www.cavendishgolfclub.com/event/ladies-team-fun-competition-11/
CATEGORIES:Ladies
END:VEVENT
BEGIN:VEVENT
DTSTART;TZID=Europe/London:20260328T000000
DTEND;TZID=Europe/London:20260328T000000
DTSTAMP:20260424T100659
CREATED:20260204T055129Z
LAST-MODIFIED:20260204T055129Z
UID:8877-1774656000-1774656000@www.cavendishgolfclub.com
SUMMARY:WINTER LEAGUE FINAL
DESCRIPTION:
URL:https://www.cavendishgolfclub.com/event/winter-league-final/
CATEGORIES:Mens
END:VEVENT
END:VCALENDAR